BEGIN:VCALENDAR
VERSION:2.0
PRODID:-//SPUD FM - ECPv4.6.26//NONSGML v1.0//EN
CALSCALE:GREGORIAN
METHOD:PUBLISH
X-WR-CALNAME:SPUD FM
X-ORIGINAL-URL:https://spud.fm
X-WR-CALDESC:Events for SPUD FM
BEGIN:VEVENT
DTSTART;VALUE=DATE:20210417
DTEND;VALUE=DATE:20210418
DTSTAMP:20260425T105522
CREATED:20200305T144757Z
LAST-MODIFIED:20220302T140037Z
UID:7026-1618617600-1618703999@spud.fm
SUMMARY:EASTER SUNDAY
DESCRIPTION:Easter Sunday in Canada celebrates Jesus Christ’s resurrection after his death\, which is described in the Christian Bible. Some people observe Easter Sunday by attending church while others spend time with their families and friends or engage in Easter egg activities. \nEaster Sunday is not a public holiday. It falls on Sunday\, April 17\, 2022 and most businesses follow regular Sunday opening hours in Canada. \n
URL:https://spud.fm/event/easter-sunday-2/
CATEGORIES:Observances
ATTACH;FMTTYPE=image/jpeg:https://spud.fm/wp-content/uploads/sites/17/2021/04/photo-1522826657326-0466ba28c41f.jpg
END:VEVENT
BEGIN:VEVENT
DTSTART;TZID=America/Halifax:20210417T090000
DTEND;TZID=America/Halifax:20210417T130000
DTSTAMP:20260425T105522
CREATED:20210407T192534Z
LAST-MODIFIED:20210407T192534Z
UID:7039-1618650000-1618664400@spud.fm
SUMMARY:Upper Room Drive Thru Food Drive
DESCRIPTION:The Upper Room is having Drive Thru Food Drive\, Saturday April 17th in the Sobeys on Allen Street parking lot. They will be there 9:00 am-1:00 pm look for the van with their logo \n
URL:https://spud.fm/event/upper-room-drive-thru-food-drive/
END:VEVENT
BEGIN:VEVENT
DTSTART;TZID=America/Halifax:20210417T140000
DTEND;TZID=America/Halifax:20210417T150000
DTSTAMP:20260425T105522
CREATED:20210416T141905Z
LAST-MODIFIED:20210416T141929Z
UID:7056-1618668000-1618671600@spud.fm
SUMMARY:Brick 4 Kids Adult Building Event
DESCRIPTION:Brick 4 Kids Adult Building Event\n2pm – 3pm\nSaturday\, April 17th\nFounders’ Hall and Food Market (Prince St\, Charlottetown)\nTickets available on Eventbrite.com \nCome have fun with Lego Bricks for an hour and support a good cause! You can build a lovely chameleon out of Lego Bricks! We will lend you the instructions and supplies. Attending the event gives you an entry to our contest to win a free Bricks 4 Kidz party.\nProceeds from the events will go towards providing scholarship spaces for students to attend Bricks 4 Kidz summer camps. \nEvent Post:\nhttps://www.facebook.com/events/735711380476776/ \nContest post:\nhttps://www.facebook.com/b4kpei/photos/pb.673609362685009.-2207520000../4114717288574182/?type=3&theater \n
URL:https://spud.fm/event/brick-4-kids-adult-building-event/
END:VEVENT
END:VCALENDAR