BEGIN:VCALENDAR
VERSION:2.0
PRODID:-//SPUD FM - ECPv4.6.26//NONSGML v1.0//EN
CALSCALE:GREGORIAN
METHOD:PUBLISH
X-WR-CALNAME:SPUD FM
X-ORIGINAL-URL:https://spud.fm
X-WR-CALDESC:Events for SPUD FM
BEGIN:VEVENT
DTSTART;VALUE=DATE:20210416
DTEND;VALUE=DATE:20210417
DTSTAMP:20260425T121530
CREATED:20210409T155721Z
LAST-MODIFIED:20210409T155721Z
UID:7042-1618531200-1618617599@spud.fm
SUMMARY:ACP Day
DESCRIPTION:Advance Care Planning Day is April 16th. Advance Care Planning is thinking\, talking about\, and writing down your future health care wishes or instructions. It is your “voice” to let people know what kind of health care and treatment you would want in the future if you were unable to speak for yourself. On April 16th\, Hospice PEI\, and Health PEI encourage you to have the conversation with family\, loved ones\, and your health care professional\, as it is an essential conversation for everyone. \n \n
URL:https://spud.fm/event/acp-day/
END:VEVENT
END:VCALENDAR