BEGIN:VCALENDAR
VERSION:2.0
PRODID:-//SPUD FM - ECPv4.6.26//NONSGML v1.0//EN
CALSCALE:GREGORIAN
METHOD:PUBLISH
X-WR-CALNAME:SPUD FM
X-ORIGINAL-URL:https://spud.fm
X-WR-CALDESC:Events for SPUD FM
BEGIN:VEVENT
DTSTART;TZID=America/Halifax:20210212T080000
DTEND;TZID=America/Halifax:20210212T170000
DTSTAMP:20260423T124836
CREATED:20210212T135312Z
LAST-MODIFIED:20210212T135312Z
UID:6951-1613116800-1613149200@spud.fm
SUMMARY:Lunar New Year
DESCRIPTION:\n\nYear of the Metal Ox\n\n\n\n\nSo in 2021 it’s the “Year of the Metal Ox\,” which hasn’t happened for 60 years. The Ox represents the first year of the 12-year zodiacal cycle\, with 2020 being the “Year of the Metal Rat.\n\n\n
URL:https://spud.fm/event/lunar-new-year/
END:VEVENT
END:VCALENDAR