BEGIN:VCALENDAR
VERSION:2.0
PRODID:-//SPUD FM - ECPv4.6.26//NONSGML v1.0//EN
CALSCALE:GREGORIAN
METHOD:PUBLISH
X-WR-CALNAME:SPUD FM
X-ORIGINAL-URL:https://spud.fm
X-WR-CALDESC:Events for SPUD FM
BEGIN:VEVENT
DTSTART;TZID=America/Halifax:20201208T090000
DTEND;TZID=America/Halifax:20201208T160000
DTSTAMP:20260424T035804
CREATED:20201202T125130Z
LAST-MODIFIED:20201202T125130Z
UID:6832-1607418000-1607443200@spud.fm
SUMMARY:MRSB Winter Essentials Drive
DESCRIPTION:We are excited to host a Winter Essentials Drive on December 8th and 9th in support of various local charities that are in need during the winter months. \nWe will be collecting gently used winter items (coats\, gloves\, sweaters etc) as well as non-perishable food items. \nThe public is welcome to stop at our four office locations around Prince Edward Island and drop off donations at the following times: \nDecember 8:\nO’Leary – 9am to 12pm\nSummerside – 1pm to 4pm \nDecember 9:\nSouris – 9am to 12pm\nCharlottetown – 1:30pm to 4:30pm \nFull details and poster can be viewed at https://www.mrsbgroup.com/post/mrsb-winter-essentials-drive \n
URL:https://spud.fm/event/mrsb-winter-essentials-drive/2020-12-08/
END:VEVENT
END:VCALENDAR