BEGIN:VCALENDAR
VERSION:2.0
PRODID:-//SPUD FM - ECPv4.6.26//NONSGML v1.0//EN
CALSCALE:GREGORIAN
METHOD:PUBLISH
X-WR-CALNAME:SPUD FM
X-ORIGINAL-URL:https://spud.fm
X-WR-CALDESC:Events for SPUD FM
BEGIN:VEVENT
DTSTART;VALUE=DATE:20201009
DTEND;VALUE=DATE:20201019
DTSTAMP:20260421T144411
CREATED:20201015T163735Z
LAST-MODIFIED:20201015T163743Z
UID:6725-1602201600-1603065599@spud.fm
SUMMARY:Scarecrows in the City Festival
DESCRIPTION:Taking place October 9 – 18th\, 2020\, the all-new Scarecrows in the City Festival will take over the downtown core of Prince Edward Island’s seaside city. Set against the backdrop of Charlottetown’s colourful and historic buildings\, hundreds of scarecrow installations will line the streets\, gather on street corners\, pop up in shop windows\, and surprise you in other unexpected ways. You can also look forward to self-guided scarecrow tours\, haunted ghost walks\, live music\, scarecrow making workshops\, wine tastings\, costumed stilt walkers\, harvest dinners\, tarot readings\, and so much more!\n\nFor a detailed schedule visit https://www.discovercharlottetown.com/scarecrow/\n
URL:https://spud.fm/event/scarecrows-in-the-city-festival/
END:VEVENT
BEGIN:VEVENT
DTSTART;VALUE=DATE:20201017
DTEND;VALUE=DATE:20201018
DTSTAMP:20260421T144411
CREATED:20201015T161424Z
LAST-MODIFIED:20201015T161424Z
UID:6715-1602892800-1602979199@spud.fm
SUMMARY:Camp Triumph 'Triumphant' 5K Fundraiser Run
DESCRIPTION:Triumphant 5K Goes October 17 in Support of Vulnerable Kids \nCamp Triumph Society will host a 5K run fundraiser on October 17 to bring in valuable revenue lost due to the COVID-19 Pandemic. Through this trying time\, everyone has had a taste of isolation and the stress that goes with it. That is the daily reality of Camp Triumph campers. They live with feelings of isolation\, uncertainty\, and worry all the time. These kids still need support. \nThe event will feature separate men’s\, woman’s\, and family 5 kilometre runs. All running abilities from serious runner to beginner are welcome and encouraged to sign up. \nThe course will take the runners from the Camp Triumph site across and through neighbouring Cabot Beach Provincial Park looping back around to finish on Camp Triumph soil where there will be a reception with refreshments. \nParticipants can sign up through the Running Room’s online portal\, pay their $25 entry fee ($20 for early bird)\, and then are asked to raise at least $175 additional in pledges\, which can be donated online. Participants receive a medal\, water and post-race refreshments\, and a tax receipt for any donations they make personally. Door prizes will be drawn throughout the day and prizes awarded to the top finishers and fundraisers. \nThe men’s race will go at 1 pm\, the women’s at 2:30 pm\, and the family run/walk will be at 4 pm. This event is a great chance for runners and families from all backgrounds to be out and active in a time where those opportunities are fewer and far between. All public health protocols set out by the Chief Public Health Office pertaining to gatherings and events will be followed. \n
URL:https://spud.fm/event/camp-triumph-triumphant-5k-fundraiser-run/
END:VEVENT
END:VCALENDAR