BEGIN:VCALENDAR
VERSION:2.0
PRODID:-//SPUD FM - ECPv4.6.26//NONSGML v1.0//EN
CALSCALE:GREGORIAN
METHOD:PUBLISH
X-WR-CALNAME:SPUD FM
X-ORIGINAL-URL:https://spud.fm
X-WR-CALDESC:Events for SPUD FM
BEGIN:VEVENT
DTSTART;TZID=America/Halifax:20190209T100000
DTEND;TZID=America/Halifax:20190209T100000
DTSTAMP:20260420T210228
CREATED:20190129T135448Z
LAST-MODIFIED:20190129T135448Z
UID:5087-1549706400-1549706400@spud.fm
SUMMARY:Emergency Animal Response Team Public Info Session
DESCRIPTION:Join us for a Public Information Session on Saturday\, February 9th at the Stratford Town Centre\, Shakespeare Avenue\, at 10:00 AM.\nLearn what we do and how we help PEI residents that may be displaced by events like house fires or major evacuations due to disasters like hurricanes.\nWorking in partnership with other emergency responders like the Red Cross\, Fire Departments and Police\, our specially trained volunteers rescue\, shelter and then re-unite pets and domestic livestock with their families during these stressful times.\nEART is a nationally registered non-profit organization\, 100% volunteer based.\nFor more info\, visit our website: www.emergencyanimalresponseteam.com\, or call 902-439-2262 \n
URL:https://spud.fm/event/emergency-animal-response-team-public-info-session/
END:VEVENT
BEGIN:VEVENT
DTSTART;TZID=America/Halifax:20190209T193000
DTEND;TZID=America/Halifax:20190209T193000
DTSTAMP:20260420T210228
CREATED:20190107T181050Z
LAST-MODIFIED:20190107T181223Z
UID:5052-1549740600-1549740600@spud.fm
SUMMARY:Kill the Chill - Lot 16 Winter Concert Series
DESCRIPTION:Lot 16 Community Hall continues its “Kill the Chill” Winter Concert Series with The Vaudevillian on February 9 at 7:30pm.   A young trio with old souls;  Jitterbug James\, Norah Spades and Piedmont Johnson share a love of Prohibition-era music.  This trio plays a mix of jug-band stomps\, ragtime and country blues which will get your toes tapping.  They recently recorded their first album\, Gamblin’ Bar Time Blues and their popularity with old-time music fans continues to grow.  Tickets are $10 at the door.  For more information on this and other concerts\, see “Lot 16 Hall” on Facebook. \n
URL:https://spud.fm/event/kill-the-chill-lot-16-winter-concert-series-2/
CATEGORIES:Concert
END:VEVENT
BEGIN:VEVENT
DTSTART;TZID=America/Halifax:20190209T193000
DTEND;TZID=America/Halifax:20190209T193000
DTSTAMP:20260420T210228
CREATED:20190129T135213Z
LAST-MODIFIED:20190129T135213Z
UID:5085-1549740600-1549740600@spud.fm
SUMMARY:Helping Hands Band Jamboree
DESCRIPTION:St. Anthony’s Hall\nRoute 2\, Woodstock\nAdmission at the door.\nMusic\, fun and lunch \n
URL:https://spud.fm/event/helping-hands-band-jamboree-10/
END:VEVENT
END:VCALENDAR