BEGIN:VCALENDAR
VERSION:2.0
PRODID:-//SPUD FM - ECPv4.6.26//NONSGML v1.0//EN
CALSCALE:GREGORIAN
METHOD:PUBLISH
X-WR-CALNAME:SPUD FM
X-ORIGINAL-URL:https://spud.fm
X-WR-CALDESC:Events for SPUD FM
BEGIN:VEVENT
DTSTART;TZID=America/Halifax:20190206T190000
DTEND;TZID=America/Halifax:20190206T190000
DTSTAMP:20260420T154817
CREATED:20190204T152346Z
LAST-MODIFIED:20190204T152346Z
UID:5102-1549479600-1549479600@spud.fm
SUMMARY:February is Psychology Month
DESCRIPTION:Confederation Centre Public Library\nBreak Through Pain in Just Three Easy Steps! Presented by Psychologist Ken Pierce.\nManaging pain is an important skill for us all. There are three essential steps to do it. Come learn\, and practice\, them so you can take them into your future. \n
URL:https://spud.fm/event/february-is-psychology-month/
END:VEVENT
END:VCALENDAR