BEGIN:VCALENDAR
VERSION:2.0
PRODID:-//SPUD FM - ECPv4.6.26//NONSGML v1.0//EN
CALSCALE:GREGORIAN
METHOD:PUBLISH
X-WR-CALNAME:SPUD FM
X-ORIGINAL-URL:https://spud.fm
X-WR-CALDESC:Events for SPUD FM
BEGIN:VEVENT
DTSTART;TZID=America/Halifax:20190123T080000
DTEND;TZID=America/Halifax:20190127T193000
DTSTAMP:20260421T031800
CREATED:20190107T173901Z
LAST-MODIFIED:20190107T173901Z
UID:5046-1548230400-1548617400@spud.fm
SUMMARY:Music PEI Music Week 2019
DESCRIPTION:Visit https://www.musicpei.com/music-pei-week/  for details \n
URL:https://spud.fm/event/music-pei-music-week-2019/
END:VEVENT
BEGIN:VEVENT
DTSTART;TZID=America/Halifax:20190124T090000
DTEND;TZID=America/Halifax:20190124T150000
DTSTAMP:20260421T031800
CREATED:20181210T152022Z
LAST-MODIFIED:20181210T152022Z
UID:4989-1548320400-1548342000@spud.fm
SUMMARY:Alzheimer Awareness Conference
DESCRIPTION:The 7th Annual Alzheimer Awareness Conference will be held on Thursday\, January 24th from 9:00am to 3:00pm at the Murchison Centre in Charlottetown. Presenters include persons living with dementia\, care partners\, health care professionals and researchers. Pre-registration is required. For more information visit www.awarenessconference.ca or contact the Alzheimer Society at 902-628-2257 \n
URL:https://spud.fm/event/alzheimer-awareness-conference/
END:VEVENT
END:VCALENDAR