BEGIN:VCALENDAR
VERSION:2.0
PRODID:-//SPUD FM - ECPv4.6.26//NONSGML v1.0//EN
CALSCALE:GREGORIAN
METHOD:PUBLISH
X-WR-CALNAME:SPUD FM
X-ORIGINAL-URL:https://spud.fm
X-WR-CALDESC:Events for SPUD FM
BEGIN:VEVENT
DTSTART;TZID=America/Halifax:20190117T190000
DTEND;TZID=America/Halifax:20190117T190000
DTSTAMP:20260421T142709
CREATED:20190114T144444Z
LAST-MODIFIED:20190114T144444Z
UID:5060-1547751600-1547751600@spud.fm
SUMMARY:Summerside and Area Garden Club Meeting
DESCRIPTION:Summerside Area Garden Club \nMeeting: January 17 at 7:00 PM \nLocation: Wilmot Community Centre\, 110 Gillespie Ave\, Summerside \nAnnual Membership and Elections Night \n
URL:https://spud.fm/event/summerside-and-area-garden-club-meeting/
END:VEVENT
END:VCALENDAR