BEGIN:VCALENDAR
VERSION:2.0
PRODID:-//SPUD FM - ECPv4.6.26//NONSGML v1.0//EN
CALSCALE:GREGORIAN
METHOD:PUBLISH
X-WR-CALNAME:SPUD FM
X-ORIGINAL-URL:https://spud.fm
X-WR-CALDESC:Events for SPUD FM
BEGIN:VEVENT
DTSTART;TZID=America/Halifax:20200215T173000
DTEND;TZID=America/Halifax:20200215T173000
DTSTAMP:20260423T084818
CREATED:20200122T203831Z
LAST-MODIFIED:20200122T203831Z
UID:6291-1581787800-1581787800@spud.fm
SUMMARY:Valentine’s Roast Beef Dinner
DESCRIPTION:Please reserve Saturday\, February 15 for our Valentine’s Roast Beef Dinner at Park Royal Church in the gym at 5:30 pm. Treat your honey to a fabulous meal\, prepared by Park Royal Men\, entertainment and decadent giant chocolate/white cupcakes for dessert. Tickets are $20 for adults and $10 for children under 12. Please call church office to reserve yours today at 902-894-9656 \n
URL:https://spud.fm/event/valentines-roast-beef-dinner/
END:VEVENT
END:VCALENDAR