BEGIN:VCALENDAR
VERSION:2.0
PRODID:-//SPUD FM - ECPv4.6.26//NONSGML v1.0//EN
CALSCALE:GREGORIAN
METHOD:PUBLISH
X-WR-CALNAME:SPUD FM
X-ORIGINAL-URL:https://spud.fm
X-WR-CALDESC:Events for SPUD FM
BEGIN:VEVENT
DTSTART;TZID=America/Halifax:20191101T100000
DTEND;TZID=America/Halifax:20191101T200000
DTSTAMP:20260421T113948
CREATED:20191028T135227Z
LAST-MODIFIED:20191028T135319Z
UID:5989-1572602400-1572638400@spud.fm
SUMMARY:Ten Thousand Villages Fair trade
DESCRIPTION:Shop with Intention! Share in the Joy! Ten Thousand Villages offers fairly traded\, unique home décor and gifts at the Ten Thousand Villages Festival Sale is happening at Summerside Presbyterian Church \, 130 Victoria Road\, on Friday November 1 from 10:00 AM to 8:00 PM and Saturday November 2 from 9:00 AM to 4:00 PM. for more information call 902-436-2557 \n
URL:https://spud.fm/event/ten-thousand-villages-fair-trade/2019-11-01/
END:VEVENT
END:VCALENDAR