BEGIN:VCALENDAR
VERSION:2.0
PRODID:-//SPUD FM - ECPv4.6.26//NONSGML v1.0//EN
CALSCALE:GREGORIAN
METHOD:PUBLISH
X-WR-CALNAME:SPUD FM
X-ORIGINAL-URL:https://spud.fm
X-WR-CALDESC:Events for SPUD FM
BEGIN:VEVENT
DTSTART;TZID=America/Halifax:20210804T190000
DTEND;TZID=America/Halifax:20210804T190000
DTSTAMP:20260422T014817
CREATED:20210728T140646Z
LAST-MODIFIED:20210728T140646Z
UID:7265-1628103600-1628103600@spud.fm
SUMMARY:Summer Series Ceilidh
DESCRIPTION:Summer Series Ceilidh continues Wednesday\, Aug 4 at the Winsloe Lions Hall starting at 7:00.   Special guest Terry Dunsford will be joined by Ian Hunter\, Peter Burke\, Brian Blacqueire\, Brian Knox and Judy Lowe.  There will be a 50/50 draw and canteen service available.    Admission at the door which opens at 6:00.   To reserve your ticket call 902-940-1217 or 902-894-9901. \n
URL:https://spud.fm/event/summer-series-ceilidh-2/
END:VEVENT
END:VCALENDAR