BEGIN:VCALENDAR
VERSION:2.0
PRODID:-//SPUD FM - ECPv4.6.26//NONSGML v1.0//EN
CALSCALE:GREGORIAN
METHOD:PUBLISH
X-WR-CALNAME:SPUD FM
X-ORIGINAL-URL:https://spud.fm
X-WR-CALDESC:Events for SPUD FM
BEGIN:VEVENT
DTSTART;TZID=America/Halifax:20210424T090000
DTEND;TZID=America/Halifax:20210424T130000
DTSTAMP:20260421T113616
CREATED:20210421T153156Z
LAST-MODIFIED:20210421T153156Z
UID:7067-1619254800-1619269200@spud.fm
SUMMARY:Spring Craft Market
DESCRIPTION:Join us this weekend for our first ever spring craft market at Eastern Kings Community Center (85 Munns Road)! Saturday\, April 24th from 9-1. We have a great assortment of vendors showcasing everything from baked goods\, bath & body products\, candy bouquets\, knitted items home decor and wood signs & ornaments and lots more. Admission: $2 \n
URL:https://spud.fm/event/spring-craft-market/
END:VEVENT
END:VCALENDAR