BEGIN:VCALENDAR
VERSION:2.0
PRODID:-//SPUD FM - ECPv4.6.26//NONSGML v1.0//EN
CALSCALE:GREGORIAN
METHOD:PUBLISH
X-WR-CALNAME:SPUD FM
X-ORIGINAL-URL:https://spud.fm
X-WR-CALDESC:Events for SPUD FM
BEGIN:VEVENT
DTSTART;TZID=America/Halifax:20210718T190000
DTEND;TZID=America/Halifax:20210718T190000
DTSTAMP:20260422T010524
CREATED:20210708T123708Z
LAST-MODIFIED:20210708T123708Z
UID:7219-1626634800-1626634800@spud.fm
SUMMARY:Souris Live Inc Event
DESCRIPTION:Souris Live is BACK! Our first show is multi-instrumentalist\, local entertainer\, Mark Haines.\nSunday\, July 18\, at Souris Legion\nShowtime 7:30 pm Doors open at 7:00 pm\n$15.00/ticket\nAdvance ticket sales ONLY\nReserve tickets by calling Linda at 902-687-2665\nWe will be following all provincial COVID guidelines. \n
URL:https://spud.fm/event/souris-live-inc-event/
END:VEVENT
END:VCALENDAR