BEGIN:VCALENDAR
VERSION:2.0
PRODID:-//SPUD FM - ECPv4.6.26//NONSGML v1.0//EN
CALSCALE:GREGORIAN
METHOD:PUBLISH
X-WR-CALNAME:SPUD FM
X-ORIGINAL-URL:https://spud.fm
X-WR-CALDESC:Events for SPUD FM
BEGIN:VEVENT
DTSTART;VALUE=DATE:20210224
DTEND;VALUE=DATE:20210225
DTSTAMP:20260423T180948
CREATED:20210212T140101Z
LAST-MODIFIED:20210212T140101Z
UID:6956-1614124800-1614211199@spud.fm
SUMMARY:Pink Shirt Day
DESCRIPTION:Pink Shirt Day\, is when each year Canadians are asked to take a stand against bullying – and to make that stance public by including an article of pink clothing in their ensemble. \n \n
URL:https://spud.fm/event/pink-shirt-day/
END:VEVENT
END:VCALENDAR