BEGIN:VCALENDAR
VERSION:2.0
PRODID:-//SPUD FM - ECPv4.6.26//NONSGML v1.0//EN
CALSCALE:GREGORIAN
METHOD:PUBLISH
X-WR-CALNAME:SPUD FM
X-ORIGINAL-URL:https://spud.fm
X-WR-CALDESC:Events for SPUD FM
BEGIN:VEVENT
DTSTART;TZID=America/Halifax:20200309T080000
DTEND;TZID=America/Halifax:20200309T200000
DTSTAMP:20260419T215111
CREATED:20200309T180330Z
LAST-MODIFIED:20200309T180330Z
UID:6383-1583740800-1583784000@spud.fm
SUMMARY:Pie Day at Ocean Acres
DESCRIPTION:Saturday March 14th from 8am-8pm The Deck Restaurant at Ocean Acres in Murray Harbour will be selling 12 different type of Pie\, Meat Handpies\, Pizzas and more! A portion of the proceeds going to support the Southern Kings Consolidated Grade 8 Graduation Party. 902 962 3913 www.oceanacres.ca \n
URL:https://spud.fm/event/pie-day-at-ocean-acres/
END:VEVENT
END:VCALENDAR