BEGIN:VCALENDAR
VERSION:2.0
PRODID:-//SPUD FM - ECPv4.6.26//NONSGML v1.0//EN
CALSCALE:GREGORIAN
METHOD:PUBLISH
X-WR-CALNAME:SPUD FM
X-ORIGINAL-URL:https://spud.fm
X-WR-CALDESC:Events for SPUD FM
BEGIN:VEVENT
DTSTART;VALUE=DATE:20170401
DTEND;VALUE=DATE:20170402
DTSTAMP:20260420T141612
CREATED:20170302T232306Z
LAST-MODIFIED:20170302T232306Z
UID:413-1491004800-1491091199@spud.fm
SUMMARY:PEIFPA Bikini\, Figure\, Physique and BodyBuilding Championships 2017
DESCRIPTION:Delta Prince Edward\nApril 1 2017\n10am – Prejudging $20 admission at door (cash only)\n6pm Finals – $45 admission Tickets pre sold at Stretch Fitness Summerside \, Supplement King &\nTogetherFit Studios in Charlottetown or through Pay pal link at www.peifpa.com \n
URL:https://spud.fm/event/peifpa-bikini-figure-physique-and-bodybuilding-championships-2017/
END:VEVENT
END:VCALENDAR