BEGIN:VCALENDAR
VERSION:2.0
PRODID:-//SPUD FM - ECPv4.6.26//NONSGML v1.0//EN
CALSCALE:GREGORIAN
METHOD:PUBLISH
X-WR-CALNAME:SPUD FM
X-ORIGINAL-URL:https://spud.fm
X-WR-CALDESC:Events for SPUD FM
BEGIN:VEVENT
DTSTART;VALUE=DATE:20190629
DTEND;VALUE=DATE:20190701
DTSTAMP:20260422T104858
CREATED:20190606T185808Z
LAST-MODIFIED:20190606T185808Z
UID:5584-1561766400-1561939199@spud.fm
SUMMARY:PEI Street Rod Association's 41st Annual Show n
DESCRIPTION:The PEI Street Rod Association’s 41st Annual Show n Shine takes place Saturday June 29th and Sunday June 30th at the Old Brudenell Park\, Brudenell PEI. The show runs from 10 – 4 pm with registration beginning at 9 am. Cars\, trucks\, motorcycles\, antique tractors\, stationary engines\, and car corral. Open to all makes and models\, old and new with prizes for all classes. Check out our website for more details. www.peistreetrod.com \n
URL:https://spud.fm/event/pei-street-rod-associations-41st-annual-show-n/
END:VEVENT
END:VCALENDAR