BEGIN:VCALENDAR
VERSION:2.0
PRODID:-//SPUD FM - ECPv4.6.26//NONSGML v1.0//EN
CALSCALE:GREGORIAN
METHOD:PUBLISH
X-WR-CALNAME:SPUD FM
X-ORIGINAL-URL:https://spud.fm
X-WR-CALDESC:Events for SPUD FM
BEGIN:VEVENT
DTSTART;TZID=America/Halifax:20200301T140000
DTEND;TZID=America/Halifax:20200301T140000
DTSTAMP:20260420T025414
CREATED:20200211T205016Z
LAST-MODIFIED:20200211T205016Z
UID:6333-1583071200-1583071200@spud.fm
SUMMARY:Patina to perform at Trinity United Conceret Series on March 1st
DESCRIPTION:Patina is a group from Summerside consisting of Kevin MacPherson\, Bob Picard\, and Bob Maclean and they will be performing at Trinity United Church\, Summerside\, on Sunday\, March 1\, 2020 at 2:00 PM. \nThey play a wide variety of easy listening music from artists like Bob Dylan\, Tom Petty\, The Eagles\, Barenaked Ladies\, local songwriter Gene Maclellan\, BeeGees\, John Prime\, JJ Cale\, Kenny Chesney\, John Hiatt and even a few originals by Kevin himself. \nThey hope to entertain you with music to sit back and relax to. Come join them. \nDoors open at 1:15 and tickets are available at the door or at the church office at 90 Summer Street during regular business hours. \n
URL:https://spud.fm/event/patina-to-perform-at-trinity-united-conceret-series-on-march-1st/
END:VEVENT
END:VCALENDAR