BEGIN:VCALENDAR
VERSION:2.0
PRODID:-//SPUD FM - ECPv4.6.26//NONSGML v1.0//EN
CALSCALE:GREGORIAN
METHOD:PUBLISH
X-WR-CALNAME:SPUD FM
X-ORIGINAL-URL:https://spud.fm
X-WR-CALDESC:Events for SPUD FM
BEGIN:VEVENT
DTSTART;TZID=America/Halifax:20240527T130000
DTEND;TZID=America/Halifax:20240527T160000
DTSTAMP:20260421T020410
CREATED:20240509T145506Z
LAST-MODIFIED:20240509T145506Z
UID:8530-1716814800-1716825600@spud.fm
SUMMARY:IG Walk for Alzheimer's
DESCRIPTION:If you’d like to get involved: \n\nCreate a team and register\, or register as an individual if you’d like to help us fundraise\, and for your chance to win amazing prizes!\nParticipate in our Island-Wide Scavenger Hunt and win prizes!\nFollow ASPEI (us) and IG Wealth Management on social media to stay up-to-date!\nTag us in photos & videos and use the hashtag #IGWalkforAlz. Remember\, we’ll only see your posts if your profile or posts are set as “public” rather than private!\nDonate to the Walk\, and encourage others to do so.\nInvite others to support you and/or your team by donating here (enter the name of the participant or team to be sponsored then follow prompts).\nDrop by our office at 166 Fitzroy st. on May 30th from 10-noon to say hi and drop off donations.\n\nFor more information\, visit walkpei.ca \n
URL:https://spud.fm/event/ig-walk-for-alzheimers/
ATTACH;FMTTYPE=image/png:https://spud.fm/wp-content/uploads/sites/17/2024/05/1_Walk_for_Alzheimer_s_May_2023.png
END:VEVENT
END:VCALENDAR