BEGIN:VCALENDAR
VERSION:2.0
PRODID:-//SPUD FM - ECPv4.6.26//NONSGML v1.0//EN
CALSCALE:GREGORIAN
METHOD:PUBLISH
X-WR-CALNAME:SPUD FM
X-ORIGINAL-URL:https://spud.fm
X-WR-CALDESC:Events for SPUD FM
BEGIN:VEVENT
DTSTART;TZID=America/Halifax:20190526T183000
DTEND;TZID=America/Halifax:20190526T183000
DTSTAMP:20260424T093750
CREATED:20190416T171433Z
LAST-MODIFIED:20190416T171433Z
UID:5360-1558895400-1558895400@spud.fm
SUMMARY:ICMP Fundraising Concert
DESCRIPTION:Please order your tickets early – this concert always sells out quickly! Our 14th Annual International Children’s Memorial Place Spring Fundraising Concert is Sunday\, May 26th at Centre Belle Alliance-Ecole Sur Mer\, South Drive\, Summerside!\nPlease join us for several talented acts:\n• Janet McGarry & Serge Bernard\n• Mike Dixon\n• Chad Matthews and\n• Ava & Lily Rashed\nDoors open at 6:30 p.m. with concert beginning at 7:00 p.m.\nTickets are just $15 and available through ICMP Board Members\, Century 21 Northumberland Summerside\, or contact Heather Carver at 902-954-0197 or email: carverheather@gmail.com\nHope to see you all there for an evening of music in support of the work of The International Children’s Memorial Place! Check out our website: www.icmplace.ca \n
URL:https://spud.fm/event/icmp-fundraising-concert/
END:VEVENT
END:VCALENDAR