BEGIN:VCALENDAR
VERSION:2.0
PRODID:-//SPUD FM - ECPv4.6.26//NONSGML v1.0//EN
CALSCALE:GREGORIAN
METHOD:PUBLISH
X-WR-CALNAME:SPUD FM
X-ORIGINAL-URL:https://spud.fm
X-WR-CALDESC:Events for SPUD FM
BEGIN:VEVENT
DTSTART;TZID=America/Halifax:20230312T193000
DTEND;TZID=America/Halifax:20230312T213000
DTSTAMP:20260420T101550
CREATED:20230228T184309Z
LAST-MODIFIED:20230228T184324Z
UID:8050-1678649400-1678656600@spud.fm
SUMMARY:Festival Finale Concert
DESCRIPTION:Presented by Atlantic Lottery\, this is the Festival Finale concert featuring some of our top nominees of 2023!  Performances by Alicia Toner\, Cory Gallant & The Red Dirt Posse\, Lawrence Maxwell\, and Lennie Gallant. \nGet Tickets \n
URL:https://spud.fm/event/festival-finale-concert/
ATTACH;FMTTYPE=image/png:https://spud.fm/wp-content/uploads/sites/17/2023/02/Festival-Finale-Concert.png
END:VEVENT
END:VCALENDAR