BEGIN:VCALENDAR
VERSION:2.0
PRODID:-//SPUD FM - ECPv4.6.26//NONSGML v1.0//EN
CALSCALE:GREGORIAN
METHOD:PUBLISH
X-WR-CALNAME:SPUD FM
X-ORIGINAL-URL:https://spud.fm
X-WR-CALDESC:Events for SPUD FM
BEGIN:VEVENT
DTSTART;TZID=America/Halifax:20191121T190000
DTEND;TZID=America/Halifax:20191121T190000
DTSTAMP:20260422T101551
CREATED:20191114T135551Z
LAST-MODIFIED:20191114T135551Z
UID:6081-1574362800-1574362800@spud.fm
SUMMARY:"Deck your Halls" Craft night
DESCRIPTION:“Deck your Halls” a fun evening with the girls from Kool Breeze Farms as they show us how to decorate in unique and fun ways for the season.\nThursday\, Nov. 21\, at 7 pm. $12 person\nSummerside Presbyterian Church\, 130 Victoria Rd. In case of bad weather\, will be held on Friday\, Nov. 22 at same time. Call 436-2557 for more info. Tickets at the door! \n
URL:https://spud.fm/event/deck-your-halls-craft-night/
END:VEVENT
END:VCALENDAR