BEGIN:VCALENDAR
VERSION:2.0
PRODID:-//SPUD FM - ECPv4.6.26//NONSGML v1.0//EN
CALSCALE:GREGORIAN
METHOD:PUBLISH
X-WR-CALNAME:SPUD FM
X-ORIGINAL-URL:https://spud.fm
X-WR-CALDESC:Events for SPUD FM
BEGIN:VEVENT
DTSTART;VALUE=DATE:20191116
DTEND;VALUE=DATE:20191118
DTSTAMP:20260420T151942
CREATED:20191104T173905Z
LAST-MODIFIED:20191104T173905Z
UID:6030-1573862400-1574035199@spud.fm
SUMMARY:DANCE VIRTUOSA – WINTER DANCELAND
DESCRIPTION:All Seats: $18.87 (tax & fees included) \nPerformance Dates:\nSaturday\, November 16th\, 4:00 PM\nSaturday\, November 16th\, 7:00 PM\nSunday\, November 17th\, 4:00 PM \nDance Virtuosa presents\nWinter Danceland 9th Edition \nAn upbeat energetic array of dance styles to stir the soul. Enjoy a diversity of professionally choreographed dances for young and old. This production incorporates the skill of adorable little ones straight through to adults from all over Prince Edward Island. Dance Virtuosa welcomes you to join us for an unforgettable showcase of skilled bodies in motion. \n
URL:https://spud.fm/event/dance-virtuosa-winter-danceland/
END:VEVENT
END:VCALENDAR