BEGIN:VCALENDAR
VERSION:2.0
PRODID:-//SPUD FM - ECPv4.6.26//NONSGML v1.0//EN
CALSCALE:GREGORIAN
METHOD:PUBLISH
X-WR-CALNAME:SPUD FM
X-ORIGINAL-URL:https://spud.fm
X-WR-CALDESC:Events for SPUD FM
BEGIN:VEVENT
DTSTART;TZID=America/Halifax:20190601T200000
DTEND;TZID=America/Halifax:20190601T200000
DTSTAMP:20260425T200531
CREATED:20190521T145828Z
LAST-MODIFIED:20190521T145828Z
UID:5514-1559419200-1559419200@spud.fm
SUMMARY:Community Dance
DESCRIPTION:Back by popular demand Phase II and Friends will be holding a “Here Comes Summer” Dance at our North Shore Community Center in Covehead. To Welcome home all our local snowbirds. Saturday Night June 1st. Doors open at 7\, Dance starts at 8 till 11\nAdvance Tickets are $10 and $12 at the Door. Please Share and Spread the word. 19 + See you all there \n
URL:https://spud.fm/event/community-dance/
END:VEVENT
END:VCALENDAR