BEGIN:VCALENDAR
VERSION:2.0
PRODID:-//SPUD FM - ECPv4.6.26//NONSGML v1.0//EN
CALSCALE:GREGORIAN
METHOD:PUBLISH
X-WR-CALNAME:SPUD FM
X-ORIGINAL-URL:https://spud.fm
X-WR-CALDESC:Events for SPUD FM
BEGIN:VEVENT
DTSTART;TZID=America/Halifax:20181201T090000
DTEND;TZID=America/Halifax:20181201T140000
DTSTAMP:20260420T120117
CREATED:20181126T133819Z
LAST-MODIFIED:20181126T133819Z
UID:4882-1543654800-1543672800@spud.fm
SUMMARY:Christmas in the Villages
DESCRIPTION:The Murray Harbour Farmers Market\, the Murray River Hall\, the Northumberland Minor Hockey Association\, Sandi Komst Gallery and Ocean Acres are thrilled to be hosting the 4th Annual Christmas in the Villages on Saturday\, December 1st from 9AM to 2PM. All five venues will offer you an unique variety of products and items from local artisans\, Farmers\, bakers and businesses with the Komst Gallery featuring the artist’s amazing paintings for purchase or a browse. ALL venues giving you the opportunity to get in the Christmas spirit\, see some old friends and meet some new ones! \nSo circle the date\, December 1st\, 2018\, call a friend and make a day of it in the beautiful Murray Harbour/Murray River area/Beach Point area. Check out our FACEBOOK page as we get closer to the even5 for more details \n
URL:https://spud.fm/event/christmas-in-the-villages/
END:VEVENT
END:VCALENDAR