BEGIN:VCALENDAR
VERSION:2.0
PRODID:-//SPUD FM - ECPv4.6.26//NONSGML v1.0//EN
CALSCALE:GREGORIAN
METHOD:PUBLISH
X-WR-CALNAME:SPUD FM
X-ORIGINAL-URL:https://spud.fm
X-WR-CALDESC:Events for SPUD FM
BEGIN:VEVENT
DTSTART;TZID=America/Halifax:20191011T193000
DTEND;TZID=America/Halifax:20191011T193000
DTSTAMP:20260423T093229
CREATED:20191008T173640Z
LAST-MODIFIED:20191008T173640Z
UID:5940-1570822200-1570822200@spud.fm
SUMMARY:Catherine MacLellan
DESCRIPTION:Join us for a special evening with Catherine MacLellan to celebrate the release of her new album COYOTE. \nCanadian Folk music gem\, Catherine MacLellan returns with her anticipated seventh album. COYOTE\, 14 songs recorded and self-produced at her studio in PEI\, is reflective and hopeful; a travelogue through heartbreak\, loss and the joy of life. A musician’s musician\, respected by her peers for her talent and dedication to the craft of songwriting. A craft she had a front row seat to at an early age\, watching her father\, the legendary Gene MacLellan. Seven albums and countless awards\, including a JUNO for Raven’s Sun\, Catherine’s commitment remains at the heart of her work\, evident to fans and industry alike. \n
URL:https://spud.fm/event/catherine-maclellan/
END:VEVENT
END:VCALENDAR