BEGIN:VCALENDAR
VERSION:2.0
PRODID:-//SPUD FM - ECPv4.6.26//NONSGML v1.0//EN
CALSCALE:GREGORIAN
METHOD:PUBLISH
X-WR-CALNAME:SPUD FM
X-ORIGINAL-URL:https://spud.fm
X-WR-CALDESC:Events for SPUD FM
BEGIN:VEVENT
DTSTART;TZID=UTC+0:20170708T200000
DTEND;TZID=UTC+0:20170708T200000
DTSTAMP:20260421T084647
CREATED:20170629T154305Z
LAST-MODIFIED:20170629T154305Z
UID:546-1499544000-1499544000@spud.fm
SUMMARY:Benefit Concert - Donnie Arsenault & Kathy Pendergast
DESCRIPTION:Benefit concert and auction planned\nfor Donnie Arsenault and Kathy Pendergast \nDonnie Arsenault and Kathy Pendergast of Egmont-Bay are known as generous people who are always ready to help their families\, friends and neighbors when they’re going through a rough time. Now that it’s Donnie and Kathy who are having difficulties\, the community is being invited to give them a helping hand. \nThe couple lost their home and all of their possessions in a recent fire that made headlines in Island newspapers. Their families and friends are therefore organizing a benefit night\, complete with a variety show and an auction\, to raise funds for them Saturday\, July 8\, at 8 p.m. at the Wellington Royal Canadian Legion. \n
URL:https://spud.fm/event/benefit-concert-donnie-arsenault-kathy-pendergast/
END:VEVENT
END:VCALENDAR